BEGIN:VCALENDAR
VERSION:2.0
PRODID:-//Kino Pobjeda Metković - ECPv4.6.8//NONSGML v1.0//EN
CALSCALE:GREGORIAN
METHOD:PUBLISH
X-WR-CALNAME:Kino Pobjeda Metković
X-ORIGINAL-URL:http://www.kinopobjeda.hr
X-WR-CALDESC:Events for Kino Pobjeda Metković
BEGIN:VEVENT
DTSTART;TZID=UTC+1:20221210T170000
DTEND;TZID=UTC+1:20221210T184100
DTSTAMP:20260420T002245
CREATED:20221208T095231Z
LAST-MODIFIED:20221208T095231Z
UID:4607-1670691600-1670697660@www.kinopobjeda.hr
SUMMARY:Mačak u čizmama: Posljednja želja
DESCRIPTION:\n  \nU Kinu ‘Pobjeda’ Metković u subotu\, 10. prosinca s početkom u 17 sati održat će se projekcija animiranoga filma ‘Mačak u čizmama: Posljednja želja’\, sinkroniziran na hrvatski jezik.\nPo prvi put u više od desetljeća\, DreamWorks Animation predstavlja novu pustolovinu u Shrekovom svemiru dok odvažni odmetnik Mačak u čizmama otkriva da su njegova strast prema opasnosti i zanemarivanje sigurnosti uzeli danak. Mačak je spalio osam od njegovih devet života\, iako je usput izgubio broj. Vraćanje tih života poslat će Mačka u čizmama na njegovu najveću potragu dosad – na epsko putovanje u Crnu šumu kako bi pronašao mitsku Zvijezdu želja i vratio svoje izgubljene živote. Sa samo jednim preostalim životom\, Mačak će se morati poniziti i zatražiti pomoć od svoje bivše partnerice i neprijateljice: zanosne Kitty meke šape. Njihovoj potrazi pridružit će se i brbljavi i veseli Pas. Zajedno će naš herojski trio morati ostati korak ispred Zlatokose i zločinačke obitelji Tri medvjeda\, Jacka Hornera te zastrašujućeg vuka. \n  \n
URL:http://www.kinopobjeda.hr/raspored/macak-cizmama-posljednja-zelja/
CATEGORIES:animirani,sinkronizirano
END:VEVENT
END:VCALENDAR