BEGIN:VCALENDAR
VERSION:2.0
PRODID:-//Kino Pobjeda Metković - ECPv4.6.8//NONSGML v1.0//EN
CALSCALE:GREGORIAN
METHOD:PUBLISH
X-WR-CALNAME:Kino Pobjeda Metković
X-ORIGINAL-URL:http://www.kinopobjeda.hr
X-WR-CALDESC:Events for Kino Pobjeda Metković
BEGIN:VEVENT
DTSTART;TZID=UTC+1:20230527T173000
DTEND;TZID=UTC+1:20230527T194500
DTSTAMP:20260419T204513
CREATED:20230524T090802Z
LAST-MODIFIED:20230524T090802Z
UID:4879-1685208600-1685216700@www.kinopobjeda.hr
SUMMARY:Mala sirena - igrani\, sinkronizirano
DESCRIPTION:\nU subotu\, 27. svibnja s početkom u 17:30 na rasporedu je obiteljski mjuzikl ‘Mala sirena’\, sinkroniziran na hrvatski jezik.\nIgrana verzija priče o djevojci iz mora koja zbog ljubavi odlučuje napustiti svoj bajkoviti podvodni svijet. Najmlađa kćer kralja Tritona\, Ariel\, žudi saznati više o svijetu s druge strane mora\, a dok obilazi površinu\, zaljubljuje se u poletnog princa Erica. Dok je sirenama zabranjeno komunicirati s ljudima\, Ariel mora slijediti svoje srce. Sklapa dogovor sa zlom morskom vješticom Ursulom\, što joj daje priliku da iskusi život na kopnu\, ali naposljetku dovodi svoj život – i očevu krunu – u opasnost. \n  \n
URL:http://www.kinopobjeda.hr/raspored/mala-sirena-igrani-sinkronizirano/
CATEGORIES:fantazija,mjuzikl,obiteljski zabavni
END:VEVENT
END:VCALENDAR