BEGIN:VCALENDAR
VERSION:2.0
PRODID:-//Kino Pobjeda Metković - ECPv4.6.8//NONSGML v1.0//EN
CALSCALE:GREGORIAN
METHOD:PUBLISH
X-WR-CALNAME:Kino Pobjeda Metković
X-ORIGINAL-URL:http://www.kinopobjeda.hr
X-WR-CALDESC:Events for Kino Pobjeda Metković
BEGIN:VEVENT
DTSTART;TZID=UTC+1:20210130T193000
DTEND;TZID=UTC+1:20210130T213000
DTSTAMP:20260421T063105
CREATED:20210126T091456Z
LAST-MODIFIED:20210126T091456Z
UID:3639-1612035000-1612042200@www.kinopobjeda.hr
SUMMARY:Male stvari
DESCRIPTION:\nU Kinu „Pobjeda“ Metković u subotu\, 30. siječnja u 19:30 na rasporedu je psihološki triler „Male stvari“\, u kojem igraju dobitnici Oscara Denzel Washington\, Rami Malek i Jared Leto.\nZamjenik šerifa okruga Kern\, Joe Deacon (Washington) poslan je u Los Angeles zbog nečega što je trebalo biti brzi zadatak prikupljanja dokaza. Umjesto toga\, upliće se u potragu za ubojicom koji terorizira grad. Vodeći potragu\, voditelj policijskog odjela u L.A. – u\, Jim Baxter\, je impresioniran Dekeovim instinktima policajaca pa ga angažira kao pomoć u istrazi. \nNo dok prate ubojicu\, Baxter otkriva uznemirujuće tajne koje bi mogle ugroziti puno više od njegovog slučaja. \n  \n
URL:http://www.kinopobjeda.hr/raspored/male-stvari/
CATEGORIES:15,triler
END:VEVENT
END:VCALENDAR