BEGIN:VCALENDAR
VERSION:2.0
PRODID:-//Kino Pobjeda Metković - ECPv4.6.8//NONSGML v1.0//EN
CALSCALE:GREGORIAN
METHOD:PUBLISH
X-WR-CALNAME:Kino Pobjeda Metković
X-ORIGINAL-URL:http://www.kinopobjeda.hr
X-WR-CALDESC:Events for Kino Pobjeda Metković
BEGIN:VEVENT
DTSTART;TZID=UTC+1:20211003T173000
DTEND;TZID=UTC+1:20211003T191700
DTSTAMP:20260419T184508
CREATED:20210928T075054Z
LAST-MODIFIED:20210928T075054Z
UID:4036-1633282200-1633288620@www.kinopobjeda.hr
SUMMARY:'Mali šef: Obiteljski posao'
DESCRIPTION:\n  \nU nedjelju\, 3. listopada u 17:30 u Kino ‘Pobjeda’ Metković stiže animirani film ‘Mali šef: Obiteljski posao’ – nastavak DreamWorks-ove hit komedije.\nBraća Templeton – Tim i Ted  odrasli su ljudi te su se udaljili jedan od drugoga. Tim je oženjen\, postao je otac i prava kućanica. Ted je šef u velikom investicijskom fondu. U njihov život ulazi novi Mali šef s revolucionarnim ‘I can’ stavom koji će ih ponovo spojiti i pokrenuti novi obiteljski posao. \n\n
URL:http://www.kinopobjeda.hr/raspored/mali-sef-obiteljski-posao/
CATEGORIES:animirani,sinkronizirano
END:VEVENT
END:VCALENDAR