BEGIN:VCALENDAR
VERSION:2.0
PRODID:-//Kino Pobjeda Metković - ECPv4.6.8//NONSGML v1.0//EN
CALSCALE:GREGORIAN
METHOD:PUBLISH
X-WR-CALNAME:Kino Pobjeda Metković
X-ORIGINAL-URL:http://www.kinopobjeda.hr
X-WR-CALDESC:Events for Kino Pobjeda Metković
BEGIN:VEVENT
DTSTART;TZID=UTC+1:20180722T210000
DTEND;TZID=UTC+1:20180722T230000
DTSTAMP:20260423T205904
CREATED:20180719T092036Z
LAST-MODIFIED:20180719T092036Z
UID:2398-1532293200-1532300400@www.kinopobjeda.hr
SUMMARY:MAMMA MIA: HERE WE GO AGAIN!
DESCRIPTION:\nMAMMA MIA: HERE WE GO AGAIN! \nIZVORNO IME: Mamma Mia: Here We Go Again! \nREDATELJ: Ol Parker  |  ŽANR: mjuzikl \nULOGE: Meryl Streep\, Pierce Brosnan\, Colin Firth\, Amanda Seyfried\, Stellan Skarsgard \nTRAJANJE FILMA: 114 minuta  |  GODINA: 2018  |  DRŽAVA: SAD  |  PLAKAT FILMA \nPOČETAK PRIKAZIVANJA: 26.07.2018 \n\nSADRŽAJ FILMA: \nU Mamma Mia: Here We Go Again! Sophie (Amanda Seyfried) bori se s izazovima koje joj je donijela trudnoća\, a ohrabrenje pronalazi u priči o trudnoći njezine majke Donne (Meryl Streep) i emocionalnim previranjima s kojima se tada suočavala. Mladu Donnu utjelovljuje mlada nada svjetske filmske scene\, britanska glumica Lily James\, koja je u samo deset godina karijere već ostavila značajan trag u svijetu filma. Pamtimo je po ulogama na malim i velikim ekranima; u serijama Downton Abbey i War & Peace te filmovima Cinderella\, The Exception\, Darkest Hour i Baby Driver. U svojim prisjećanjima\, Donna spominje i svoju majku koju tumači ni manje ni više nego mega popularna američka pjevačica i glumica Cher\, također poznata kao božica pop-a. \n \n
URL:http://www.kinopobjeda.hr/raspored/mamma-mia-here-we-go-again/
CATEGORIES:mjuzikl
END:VEVENT
END:VCALENDAR