BEGIN:VCALENDAR
VERSION:2.0
PRODID:-//Kino Pobjeda Metković - ECPv4.6.8//NONSGML v1.0//EN
CALSCALE:GREGORIAN
METHOD:PUBLISH
X-WR-CALNAME:Kino Pobjeda Metković
X-ORIGINAL-URL:http://www.kinopobjeda.hr
X-WR-CALDESC:Events for Kino Pobjeda Metković
BEGIN:VEVENT
DTSTART;TZID=UTC+1:20200920T213000
DTEND;TZID=UTC+1:20200920T213000
DTSTAMP:20260421T120723
CREATED:20200915T102454Z
LAST-MODIFIED:20200915T102454Z
UID:3325-1600637400-1600637400@www.kinopobjeda.hr
SUMMARY:MATER
DESCRIPTION:\n  \nU Kinu ‘Pobjeda’ Metković u nedjelju 20. rujna u 20 sati održat će se projekcija filma ‘Mater’. Film Pločanima Jure Pavlovića u potpunosti je snimljen u okolici Metkovića\, a u njemu glumi velik broj lokalnih amaterskih glumaca.\nNa vijest o bolesti majke\, Jasna se vraća iz Njemačke kako bi se o njoj brinula. Čak i prikovana za krevet\, zrači snažnim autoritetom. Dani prolaze\, a njih dvije zapliću se u mrežu zamjeranja od kojih je Jasna očajnički pokušavala pobjeći. Hoće li joj uspjeti suprotstaviti se ili će nestati pod njenim teškim zagrljajem? \nFilm ‘Mater’ nagrađen je na beogradskom FEST-u kao najbolji regionalni film\, glavna glumica Daria Lorenci – Flatz nagrađena je kao najbolja glumica na Taormina Film Festivalu te Zlatnom arenom za najbolju žensku ulogu na Pulskom filmskom festivalu 2020. \n  \n
URL:http://www.kinopobjeda.hr/raspored/mater/
CATEGORIES:15,drama
END:VEVENT
END:VCALENDAR