BEGIN:VCALENDAR
VERSION:2.0
PRODID:-//Kino Pobjeda Metković - ECPv4.6.8//NONSGML v1.0//EN
CALSCALE:GREGORIAN
METHOD:PUBLISH
X-WR-CALNAME:Kino Pobjeda Metković
X-ORIGINAL-URL:http://www.kinopobjeda.hr
X-WR-CALDESC:Events for Kino Pobjeda Metković
BEGIN:VEVENT
DTSTART;TZID=UTC+1:20210531T200000
DTEND;TZID=UTC+1:20210531T213000
DTSTAMP:20260421T011606
CREATED:20210531T094852Z
LAST-MODIFIED:20210531T094852Z
UID:3895-1622491200-1622496600@www.kinopobjeda.hr
SUMMARY:Medena zemlja
DESCRIPTION:\nU Kinu ‘Pobjeda’ Metković u ponedjeljak\, 31. svibnja u 20 sati na rasporedu je projekcija dokumentarnoga filma ‘Medena zemlja’. Riječ je o posljednjem u nizu u ciklusu dokumentaraca\, a ulaz je slobodan. \nNagrađivani sjevernomakedonski dokumentarni film iz 2019. godine\, u režiji Tamare Kotevske i Ljubomira Stefanova\, prikazuje život Hatidže Muratove\, pčelarice u udaljenom planinskom selu Bekirliji (Sjeverna Makedonija). \nUnatoč iznimno teškoj i oskudnoj svakodnevici\, Hatidže i njezina majka žive harmonično u skladu s prirodom\, koja osobito okrutna može biti tijekom zimskih mjeseci. No\, za dvije žene sve će se početi mijenjati kad se u njihovo neposredno susjedstvo doseli brojna nomadska obitelj turskog stočara Husseina. Oni su slikoviti\, temperamentni i bučni nomadi posve suprotnog načina života i drugačijih životnih vrijednosti\, a Hussein će vrlo brzo u uzgoju pčela uočiti priliku za dobru zaradu. A kad ga Hatidže počne uvoditi u tajne pčelarstva\, on će se prema pčelama početi odnositi nemarno\, baš kao i prema svojoj stoci koja će početi ugibati. \n  \n
URL:http://www.kinopobjeda.hr/raspored/medena-zemlja/
CATEGORIES:dokumentarni
END:VEVENT
END:VCALENDAR