BEGIN:VCALENDAR
VERSION:2.0
PRODID:-//Kino Pobjeda Metković - ECPv4.6.8//NONSGML v1.0//EN
CALSCALE:GREGORIAN
METHOD:PUBLISH
X-WR-CALNAME:Kino Pobjeda Metković
X-ORIGINAL-URL:http://www.kinopobjeda.hr
X-WR-CALDESC:Events for Kino Pobjeda Metković
BEGIN:VEVENT
DTSTART;TZID=UTC+1:20210116T170000
DTEND;TZID=UTC+1:20210116T183000
DTSTAMP:20260421T074442
CREATED:20210112T082104Z
LAST-MODIFIED:20210112T082104Z
UID:3605-1610816400-1610821800@www.kinopobjeda.hr
SUMMARY:Medo sa sjevera 2: Ključevi kraljevstva
DESCRIPTION:\n  \nU Kinu „Pobjeda“ Metković u subotu\, 16. siječnja s početkom u 17 sati na rasporedu je animirani film „Medo sa sjevera 2: Ključevi kraljevstva“\, sinkroniziran na hrvatski jezik. \nDaleko od svoga doma na Artiku\, polarni medo Norm i njegova tri prijatelja nalaze se u New Yorku koji je postao njihov dom. Grad se uskoro nađe u opasnosti\, a Norm se nađe u nevolji u kojoj biva optužen za zločin koji nije počinio. Podršku pronalazi u prijateljima koji mu pomažu da skine ljagu sa svog imena i spasi svoje kraljevstvo. \n  \n
URL:http://www.kinopobjeda.hr/raspored/medo-sjevera-2-kljucevi-kraljevstva/
CATEGORIES:animirani,sinkronizirano
END:VEVENT
END:VCALENDAR