BEGIN:VCALENDAR
VERSION:2.0
PRODID:-//Kino Pobjeda Metković - ECPv4.6.8//NONSGML v1.0//EN
CALSCALE:GREGORIAN
METHOD:PUBLISH
X-WR-CALNAME:Kino Pobjeda Metković
X-ORIGINAL-URL:http://www.kinopobjeda.hr
X-WR-CALDESC:Events for Kino Pobjeda Metković
BEGIN:VEVENT
DTSTART;TZID=UTC+1:20220108T170000
DTEND;TZID=UTC+1:20220108T183000
DTSTAMP:20260420T185708
CREATED:20211229T113503Z
LAST-MODIFIED:20211229T113503Z
UID:4212-1641661200-1641666600@www.kinopobjeda.hr
SUMMARY:Medo sa sjevera 3: Kraljevska avantura
DESCRIPTION:\nU Kinu ‘Pobjeda’ Metković u subotu\, 8. siječnja u 17 sati na rasporedu je animirani film ‘Medo sa sjevera 3: Kraljevska avantura’\, sinkroniziran na hrvatski jezik.\nOmiljeni medo Norm i njegovi prijatelji se vraćaju u novoj avanturi. Jin i Dexter\, bivši partneri koji obnavljaju i sakupljaju kineske antikvitete\, u sukobu su nakon što Jin sazna da je Dexter krao i prodavao drevne antikvitete iz muzeja. Norm obeća vratiti najcjenjeniju kinesku starinu\, a u tome će mu pomoći njegovi prijatelji s kojima kreće u novu avanturu u Peking. Norm čini sve što treba\, kako bi održao svoje obećanje\, čak i ako to znači skakanje po planinama i suprotstavljanje nemilosrdnom arheologu. \n  \n
URL:http://www.kinopobjeda.hr/raspored/medo-sjevera-3-kraljevska-avantura/
CATEGORIES:animirani,sinkronizirano
END:VEVENT
END:VCALENDAR