BEGIN:VCALENDAR
VERSION:2.0
PRODID:-//Kino Pobjeda Metković - ECPv4.6.8//NONSGML v1.0//EN
CALSCALE:GREGORIAN
METHOD:PUBLISH
X-WR-CALNAME:Kino Pobjeda Metković
X-ORIGINAL-URL:http://www.kinopobjeda.hr
X-WR-CALDESC:Events for Kino Pobjeda Metković
BEGIN:VEVENT
DTSTART;TZID=UTC+1:20210809T203000
DTEND;TZID=UTC+1:20210809T223000
DTSTAMP:20260421T011601
CREATED:20210808T095038Z
LAST-MODIFIED:20210808T095038Z
UID:3968-1628541000-1628548200@www.kinopobjeda.hr
SUMMARY:Metak i milkshake
DESCRIPTION:\n  \nU Kinu ‘Pobjeda’ Metković u ponedjeljak\, 9. kolovoza s početkom u 20:30 na rasporedu je akcijski film ‘Metak i milkshake’.\nSam (Karen Gillan) je bila dvanaestogodišnja djevojčica u trenutku kada ju je njezina majka\, elitna profesionalna ubojica\, bila prisiljena napustiti. Sam je odgojila nemilosrdna kriminalna organizacija\, The Firm\, za koju je njezina majka radila. Sada\, petnaest godina kasnije\, Sam slijedi majčine stope i odrasla je u nemilosrdnu ubojicu za The Firm. Svoje smrtonosne talente koristi kako bi uklonila sve neprijatelje organizacije za koju radi. Vrlo je efikasna i lojalna. \nNo kada visokorizičan posao krene po zlu suočena je s odabirom\, lojalnost organizaciji ili zaštita nevine osmogodišnjakinje Emily (Chloe Colemaan). Odabire zaštitu Emily i The Firm na nju otvara sezonu „lova“ i ucjenjuje njen život. Jedina šansa za Sam je ujedinjenje s majkom i njezinim suradnicama\, koje su također u poslu\, The Librarians (Angela Bassett\, Michelle Yeoh i Carla Gugino). \nTri generacije žena moraju naučiti vjerovati jedna drugoj te se oduprijeti The Firm i svim ubojicama koje će poslati za njima. \n  \n
URL:http://www.kinopobjeda.hr/raspored/metak-i-milkshake/
CATEGORIES:15,akcija
END:VEVENT
END:VCALENDAR