BEGIN:VCALENDAR
VERSION:2.0
PRODID:-//Kino Pobjeda Metković - ECPv4.6.8//NONSGML v1.0//EN
CALSCALE:GREGORIAN
METHOD:PUBLISH
X-WR-CALNAME:Kino Pobjeda Metković
X-ORIGINAL-URL:http://www.kinopobjeda.hr
X-WR-CALDESC:Events for Kino Pobjeda Metković
BEGIN:VEVENT
DTSTART;TZID=UTC+1:20260425T200000
DTEND;TZID=UTC+1:20260425T221000
DTSTAMP:20260420T134058
CREATED:20260420T111131Z
LAST-MODIFIED:20260420T111131Z
UID:6143-1777147200-1777155000@www.kinopobjeda.hr
SUMMARY:Michael
DESCRIPTION:  \nU subotu\, 25. travnja 2026. godine u 20 sati u Kinu „Pobjeda” u Metkoviću održat će se projekcija filma „Michael”. \nFilm „Michael” prikazuje život Michaela Jacksona izvan same glazbene scene\, prateći njegovo izvanredno putovanje od ranog otkrića talenta kao vođe legendarnih Jackson 5\, pa sve do globalne superzvijezde čija je umjetnička vizija i neiscrpna kreativnost oblikovala modernu pop-kulturu. \nOvo filmsko ostvarenje donosi intimniji pogled na čovjeka iza svjetske slave te njegovu neumornu težnju da postane najveći zabavljač na svijetu\, ostavljajući za sobom neizbrisiv trag u povijesti glazbe i umjetnosti. \n \n
URL:http://www.kinopobjeda.hr/raspored/michael/
CATEGORIES:12,biografija,drama,povijesni
ATTACH;FMTTYPE=image/jpeg:http://www.kinopobjeda.hr/wp-content/uploads/2026/04/MAVEN_Unit_240504_00234RC_Crop3_500px.jpg
END:VEVENT
END:VCALENDAR