BEGIN:VCALENDAR
VERSION:2.0
PRODID:-//Kino Pobjeda Metković - ECPv4.6.8//NONSGML v1.0//EN
CALSCALE:GREGORIAN
METHOD:PUBLISH
X-WR-CALNAME:Kino Pobjeda Metković
X-ORIGINAL-URL:http://www.kinopobjeda.hr
X-WR-CALDESC:Events for Kino Pobjeda Metković
BEGIN:VEVENT
DTSTART;TZID=UTC+1:20210528T200000
DTEND;TZID=UTC+1:20210528T213000
DTSTAMP:20260421T011708
CREATED:20210524T123514Z
LAST-MODIFIED:20210524T123514Z
UID:3871-1622232000-1622237400@www.kinopobjeda.hr
SUMMARY:Mjesto tišine 2
DESCRIPTION:\nU petak\, 28. svibnja u 20 sati održat će se projekcija filma ‘Mjesto tišine 2’ – nastavak nadnaravnoga napetog horor trilera iz 2018.godine.\nMjesto tišine 2 se nastavlja na kraj prvog dijela. Nakon što im je uništen siguran dom\, Evelyn (Emily Blunt) i njezino troje djece kreću dalje u nepoznati svijet\, u kojem čak i najmanji zvuk znači smrt. Pokušavaju pronaći druge preživjele i proširiti svoja nova saznanja o tome kako ubiti ta stvorenja. \n  \n
URL:http://www.kinopobjeda.hr/raspored/mjesto-tisine-2/
CATEGORIES:12,horor,triler
END:VEVENT
END:VCALENDAR