BEGIN:VCALENDAR
VERSION:2.0
PRODID:-//Kino Pobjeda Metković - ECPv4.6.8//NONSGML v1.0//EN
CALSCALE:GREGORIAN
METHOD:PUBLISH
X-WR-CALNAME:Kino Pobjeda Metković
X-ORIGINAL-URL:http://www.kinopobjeda.hr
X-WR-CALDESC:Events for Kino Pobjeda Metković
BEGIN:VEVENT
DTSTART;TZID=UTC+1:20231124T193000
DTEND;TZID=UTC+1:20231124T210800
DTSTAMP:20260421T182329
CREATED:20231121T060354Z
LAST-MODIFIED:20231121T060354Z
UID:5146-1700854200-1700860080@www.kinopobjeda.hr
SUMMARY:Mjesto zločina
DESCRIPTION:\nU petak\, 24. studenoga s početkom u 19:30 na rasporedu je film ‘Mjesto zločina’ – crna komedija i kriminalistički triler o plaćenom ubojici\, njegovom šefu Gordonu te posrnuloj vlasnici umjetničke galerije Patrice. \nGordon je\, naime\, član organizacije koja “pere” novac prodajom krivotvorenih umjetnina. No\, galeristica nije ni slutila da će autor umjetničkih djela (čiji je autor zapravo ubojica Reggie Pitt) uskoro doživjeti ogroman uspjeh\, a njegove krivotvorine\, postati glavna tema u gradu. \n  \n
URL:http://www.kinopobjeda.hr/raspored/mjesto-zlocina/
CATEGORIES:15,komedija,triler
END:VEVENT
END:VCALENDAR