BEGIN:VCALENDAR
VERSION:2.0
PRODID:-//Kino Pobjeda Metković - ECPv4.6.8//NONSGML v1.0//EN
CALSCALE:GREGORIAN
METHOD:PUBLISH
X-WR-CALNAME:Kino Pobjeda Metković
X-ORIGINAL-URL:http://www.kinopobjeda.hr
X-WR-CALDESC:Events for Kino Pobjeda Metković
BEGIN:VEVENT
DTSTART;TZID=UTC+1:20171229T163000
DTEND;TZID=UTC+1:20171229T183000
DTSTAMP:20260423T073701
CREATED:20171227T114046Z
LAST-MODIFIED:20171227T123834Z
UID:1863-1514565000-1514572200@www.kinopobjeda.hr
SUMMARY:MOJ MALI PONY
DESCRIPTION:\nIZVORNO IME: My Little Pony: The Movie\nREDATELJ: Jayson Thiessen | ŽANR: animirani\nULOGE: Katarina Perica Kirin\, Andrea Baković\, Jasna Bilušić\, Mirela Videk\nTRAJANJE FILMA: 100 minuta | GODINA: 2017 | DRŽAVA: Kanada. SAD\nPOČETAK PRIKAZIVANJA: 29.12.2017\nDatum prikazivanja je informativnog karaktera i kao takav je podložan promjenama. \nSADRŽAJ FILMA:\nMoj mali Poni donosi nam dobro poznatu šestorku u najspektakularnijoj avanturi do sada! \nBudućnost Equestrije je u opasnosti kada Storm King napadne Canterlot s planom da ponijima ukrade čaroliju. U nikad prije viđenoj avanturi\, poniji kreću na nezaboravan put izvan Equestrije\, preko čarobnih planina i podmorskih svjetova\, na kojem će upoznati nove prijatelje te će s njima pokušati spasiti svoj dom. \n \n  \n
URL:http://www.kinopobjeda.hr/raspored/moj-mali-pony/
CATEGORIES:animirani
END:VEVENT
END:VCALENDAR