BEGIN:VCALENDAR
VERSION:2.0
PRODID:-//Kino Pobjeda Metković - ECPv4.6.8//NONSGML v1.0//EN
CALSCALE:GREGORIAN
METHOD:PUBLISH
X-WR-CALNAME:Kino Pobjeda Metković
X-ORIGINAL-URL:http://www.kinopobjeda.hr
X-WR-CALDESC:Events for Kino Pobjeda Metković
BEGIN:VEVENT
DTSTART;TZID=UTC+1:20220129T170000
DTEND;TZID=UTC+1:20220129T184300
DTSTAMP:20260420T163202
CREATED:20220125T075953Z
LAST-MODIFIED:20220125T075953Z
UID:4245-1643475600-1643481780@www.kinopobjeda.hr
SUMMARY:Moja čudovišna obitelj 2
DESCRIPTION:\nU Kinu ‘Pobjeda’ Metković u subotu\, 29. siječnja u 17 sati gledamo nastavak velikog animiranog hita ‘Moja čudovišna obitelj 2’\, sinkroniziran na hrvatski jezik. \nGodinu dana nakon njihove čudovišne avanture\, obitelj Wishbone ponovno živi svojim normalnim\, ljudskim životima\, koji su ispunjeni svim uobičajenim svađama\, stresovima i svakodnevnim ludilom koje obiteljski život nosi. Iznenadni susret s Milom Starr označava početak nove avanture zbog koje svi njihovi normalni problemi nestaju. Kako bi oslobodili Babu Jagu i Renfielda iz kandži Lovca na čudovišta\, obitelj Wishbone se ponovno pretvara u vampira\, Frankensteinovo čudovište\, mumiju i vukodlaka. Zajedno sa svoja tri kućna ljubimca\, naša obitelj ponovno proputuje cijeli svijet kako bi spasila svoje prijatelje\, stekla nova čudovišna poznanstva i konačno shvatila da nitko nije savršen – i kako čak i oni s manama mogu pronaći sreću. \n  \n
URL:http://www.kinopobjeda.hr/raspored/moja-cudovisna-obitelj-2/
CATEGORIES:animirani,sinkronizirano
END:VEVENT
END:VCALENDAR