BEGIN:VCALENDAR
VERSION:2.0
PRODID:-//Kino Pobjeda Metković - ECPv4.6.8//NONSGML v1.0//EN
CALSCALE:GREGORIAN
METHOD:PUBLISH
X-WR-CALNAME:Kino Pobjeda Metković
X-ORIGINAL-URL:http://www.kinopobjeda.hr
X-WR-CALDESC:Events for Kino Pobjeda Metković
BEGIN:VEVENT
DTSTART;TZID=UTC+1:20220402T193000
DTEND;TZID=UTC+1:20220402T211400
DTSTAMP:20260420T122927
CREATED:20220328T100905Z
LAST-MODIFIED:20220328T100905Z
UID:4342-1648927800-1648934040@www.kinopobjeda.hr
SUMMARY:Morbius
DESCRIPTION:\nU Kinu ‘Pobjeda’ Metković u subotu u 19:30 na rasporedu je film ‘Morbius‘. \nJedan od Marvelovih najintrigantnijih\, ali u isto vrijeme i najkompleksnijih likova konačno oživljava na velikom platnu uz Jareda Leta\, dobitnika prestižne nagrade Oscar\, koji će se preobratiti u zagonetnog antijunaka Michaela Morbiusa. Uslijed rijetke krvne bolesti\, a odlučan spasiti druge koji boluju od sličnog problema\, doktor Morbius pokušava s opasnim eksperimentom. Premda se isprva sve čini strahovito uspješnim\, on sam pretvara se u sve mračniju figuru. Hoće li dobro nadvladati zlo ili će Morbius na kraju ipak podlegnuti novim misterioznim porivima? \n  \n
URL:http://www.kinopobjeda.hr/raspored/morbius/
CATEGORIES:12,akcija
END:VEVENT
END:VCALENDAR