BEGIN:VCALENDAR
VERSION:2.0
PRODID:-//Kino Pobjeda Metković - ECPv4.6.8//NONSGML v1.0//EN
CALSCALE:GREGORIAN
METHOD:PUBLISH
X-WR-CALNAME:Kino Pobjeda Metković
X-ORIGINAL-URL:http://www.kinopobjeda.hr
X-WR-CALDESC:Events for Kino Pobjeda Metković
BEGIN:VEVENT
DTSTART;TZID=UTC+1:20210416T200000
DTEND;TZID=UTC+1:20210416T220000
DTSTAMP:20260421T034321
CREATED:20210412T130736Z
LAST-MODIFIED:20210412T130736Z
UID:3771-1618603200-1618610400@www.kinopobjeda.hr
SUMMARY:Mortal Kombat
DESCRIPTION:\n  \nU Kinu ‘Pobjeda’ Metković u petak\, 16. travnja s početkom u 20 sati održat će se projekcija filma ‘Mortal Kombat’ – nova filmska avantura nadahnuta popularnom franšizom videoigara.\nMMA borac Cole Young\, koji je navikao dobivati batine radi novca\, nije svjestan svoga nasljeđa – ili zašto je car Outworlda\, Shang Tsung poslao svog najboljeg ratnika Sub-Zeroa\, u lov na njega. \nU strahu za sigurnost svoje obitelji\, Cole kreće u potragu za Sonyom Blade\, koja nosi istog misterioznog zmaja s kojim je Cole rođen. Ubrzo se nađe u hramu lorda Raidena\, starijeg Boga i zaštitnika Zemaljskog carstva\, koji pruža utočište onima koji nose znak. Tamo Cole trenira s iskusnim ratnicima Liu Kangom\, Kung Laom i plaćenikom Kanoom\, dok se priprema za borbu s najvećim prvacima. \nNo\, hoće li Cole biti snažan da otključa svoju arkanu\, neizmjernu snagu svoje duše te da na vrijeme spasi ne samo svoju obitelj\, već da jednom zauvijek zaustavi Outworld? \n  \n
URL:http://www.kinopobjeda.hr/raspored/mortal-kombat/
CATEGORIES:15,akcija,avantura
END:VEVENT
END:VCALENDAR