BEGIN:VCALENDAR
VERSION:2.0
PRODID:-//Kino Pobjeda Metković - ECPv4.6.8//NONSGML v1.0//EN
CALSCALE:GREGORIAN
METHOD:PUBLISH
X-WR-CALNAME:Kino Pobjeda Metković
X-ORIGINAL-URL:http://www.kinopobjeda.hr
X-WR-CALDESC:Events for Kino Pobjeda Metković
BEGIN:VEVENT
DTSTART;TZID=UTC+1:20220801T200000
DTEND;TZID=UTC+1:20220801T214000
DTSTAMP:20260420T061449
CREATED:20220714T091925Z
LAST-MODIFIED:20220725T083731Z
UID:4469-1659384000-1659390000@www.kinopobjeda.hr
SUMMARY:Muškarci
DESCRIPTION:\nU Kinu ‘Pobjeda’ Metković u ponedjeljak\, 1. kolovoza s početkom u 20 sati na rasporedu je horor ‘Muškarci’. \nNakon što je njezin bivši muž počinio samoubojstvo\, Harper odlazi sama u prekrasno englesko selo kako bi se oporavila. Iako na prvi pogled izgleda idilično\, to mjesto joj je čudno od samog početka\, kao i ljudi\, koji su svi igrom slučaja – muškarci. Ubrzo\, netko ili nešto ju počne uhoditi. Ono što počinje kao tinjajući strah postaje prava noćna mora\, puna njezinih najmračnijih sjećanja i strahova. \n  \n
URL:http://www.kinopobjeda.hr/raspored/muskarci/
CATEGORIES:15,drama,horor,znanstveno-fantastični
END:VEVENT
END:VCALENDAR