BEGIN:VCALENDAR
VERSION:2.0
PRODID:-//Kino Pobjeda Metković - ECPv4.6.8//NONSGML v1.0//EN
CALSCALE:GREGORIAN
METHOD:PUBLISH
X-WR-CALNAME:Kino Pobjeda Metković
X-ORIGINAL-URL:http://www.kinopobjeda.hr
X-WR-CALDESC:Events for Kino Pobjeda Metković
BEGIN:VEVENT
DTSTART;TZID=UTC+1:20200606T173000
DTEND;TZID=UTC+1:20200606T190000
DTSTAMP:20260421T191301
CREATED:20200604T113602Z
LAST-MODIFIED:20200604T113602Z
UID:3173-1591464600-1591470000@www.kinopobjeda.hr
SUMMARY:Naprijed- animirani film (sinkronizirano)
DESCRIPTION: \nSubota\, 6. lipnja u 17:30 sati – Naprijed- animirani film (sinkronizirano) \nSmješten u predgrađu izmišljenog svijeta\, „Naprijed“ predstavlja dvojicu tinejdžera koji se upuštaju u uzbudljivu misiju otkrivanja postoji li u svijetu još uvijek\, bar malo\, čarolije. \n \n
URL:http://www.kinopobjeda.hr/raspored/naprijed-animirani-film-sinkronizirano/
CATEGORIES:animirani,sinkronizirano
END:VEVENT
END:VCALENDAR