BEGIN:VCALENDAR
VERSION:2.0
PRODID:-//Kino Pobjeda Metković - ECPv4.6.8//NONSGML v1.0//EN
CALSCALE:GREGORIAN
METHOD:PUBLISH
X-WR-CALNAME:Kino Pobjeda Metković
X-ORIGINAL-URL:http://www.kinopobjeda.hr
X-WR-CALDESC:Events for Kino Pobjeda Metković
BEGIN:VEVENT
DTSTART;TZID=UTC+1:20200315T170000
DTEND;TZID=UTC+1:20200315T183000
DTSTAMP:20260421T175937
CREATED:20200312T125646Z
LAST-MODIFIED:20200312T125646Z
UID:3151-1584291600-1584297000@www.kinopobjeda.hr
SUMMARY:NAPRIJED (SINK)
DESCRIPTION:\nNedjelja\, 15.3. u 17 sati – NAPRIJED (SINK) \nREDATELJ: Dan Scanlon | ŽANR: animirani\nULOGE: Tit Emanuel Medvešek\, Jan Kerekeš\, Bojana Gregorić Vejzović\, Branka Cvitković\, Ivica Zadro\, Vinko Štefanac \nSmješten u predgrađu izmišljenog svijeta\, Disneyev i Pixarov “Naprijed” predstavlja dvojicu tinejdžera vilenjaka koji se upuštaju u uzbudljivu misiju otkrivanja postoji li u svijetu još uvijek bar malo čarolije. Originalni film studija Pixar režirao je Dan Scanlon\, a producirala Kori Rae – ovo je ujedno i duo koji nam je donio hit „Čudovišta iz ormara“. \n \n
URL:http://www.kinopobjeda.hr/raspored/naprijed-sink/
END:VEVENT
END:VCALENDAR