BEGIN:VCALENDAR
VERSION:2.0
PRODID:-//Kino Pobjeda Metković - ECPv4.6.8//NONSGML v1.0//EN
CALSCALE:GREGORIAN
METHOD:PUBLISH
X-WR-CALNAME:Kino Pobjeda Metković
X-ORIGINAL-URL:http://www.kinopobjeda.hr
X-WR-CALDESC:Events for Kino Pobjeda Metković
BEGIN:VEVENT
DTSTART;TZID=UTC+1:20220507T200000
DTEND;TZID=UTC+1:20220507T214700
DTSTAMP:20260420T111728
CREATED:20220503T111520Z
LAST-MODIFIED:20220503T111520Z
UID:4385-1651953600-1651960020@www.kinopobjeda.hr
SUMMARY:Nepodnošljiva težina golemog talenta
DESCRIPTION:\nU Kinu ‘Pobjeda’ Metković u subotu\, 7. svibnja s početkom u 20 sati na rasporedu je film ‘Nepodnošljiva težina golemog talenta’ – akcijska komedija snimana u Dubrovniku. \nNicolas Cage je u ulozi glumca koji očajnički želi dobiti ulogu u filmu Quentina Tarantina. Dok pokušava ostvariti svoju želju\, privatno se bori s kćerkom koja odrasta u zahtjevnu tinejdžericu i pokušava popraviti odnos s njom. U filmu se obračunava i s egoističnim Cageom (samim sobom) s početka 90-ih kojeg optužuje da je kriv za cijeli niz loših filmova koje je snimio i koje su ga dovele na B listu popularnosti\, ali i do ruba bankrota. \n  \n
URL:http://www.kinopobjeda.hr/raspored/nepodnosljiva-tezina-golemog-talenta/
CATEGORIES:12,akcija,komedija
END:VEVENT
END:VCALENDAR