BEGIN:VCALENDAR
VERSION:2.0
PRODID:-//Kino Pobjeda Metković - ECPv4.6.8//NONSGML v1.0//EN
CALSCALE:GREGORIAN
METHOD:PUBLISH
X-WR-CALNAME:Kino Pobjeda Metković
X-ORIGINAL-URL:http://www.kinopobjeda.hr
X-WR-CALDESC:Events for Kino Pobjeda Metković
BEGIN:VEVENT
DTSTART;TZID=UTC+1:20230224T193000
DTEND;TZID=UTC+1:20230224T211000
DTSTAMP:20260419T230431
CREATED:20230221T084004Z
LAST-MODIFIED:20230221T084004Z
UID:4719-1677267000-1677273000@www.kinopobjeda.hr
SUMMARY:Netko kuca na vrata kolibe
DESCRIPTION:\nU Kinu ‘Pobjeda’ Metković u petak\, 24. veljače s početkom u 19:30 na rasporedu je horor ‘Netko kuca na vrata kolibe’.\nIdilični obiteljski odmor ne traje dugo jer njihovoj kćeri prilazi nepoznati čovjek i govori joj kako se mora sprijateljiti s njom i njenim očevima te mu se slama srce zbog onoga što mora učiniti. Nakon što on i još troje ljudi provale Andrewu\, Ericu i Wen u kolibu\, drže ih kao taoce te im govore kako moraju obaviti važan posao\, možda i najvažniji u povijesti svijeta. Obitelj mora napraviti izbor\, a ako to ne učine\, biti će izazvana apokalipsa. \n  \n
URL:http://www.kinopobjeda.hr/raspored/netko-kuca-vrata-kolibe/
CATEGORIES:15,horor,misterija,triler
END:VEVENT
END:VCALENDAR