BEGIN:VCALENDAR
VERSION:2.0
PRODID:-//Kino Pobjeda Metković - ECPv4.6.8//NONSGML v1.0//EN
CALSCALE:GREGORIAN
METHOD:PUBLISH
X-WR-CALNAME:Kino Pobjeda Metković
X-ORIGINAL-URL:http://www.kinopobjeda.hr
X-WR-CALDESC:Events for Kino Pobjeda Metković
BEGIN:VEVENT
DTSTART;TZID=UTC+1:20210213T193000
DTEND;TZID=UTC+1:20210213T210000
DTSTAMP:20260421T063256
CREATED:20210208T081133Z
LAST-MODIFIED:20210208T081133Z
UID:3658-1613244600-1613250000@www.kinopobjeda.hr
SUMMARY:Njezinih pet minuta
DESCRIPTION:\nU Kinu ‘Pobjeda’ Metković u subotu\, 13. veljače u 19:30 na rasporedu je komedija ‘Njezinih pet minuta’.\nU ovoj crnoj komediji\, Sue Buttons\, nedovoljno cijenjena supruga iz predgrađa\, stječe slavu nakon što njezin suprug misteriozno nestaje. U pokušaju da produži svoju novopronađenu slavu\, ona se nađe u bizarnim i urnebesnim situacijama\, izmičući ‘wanna be’ mafijašici (Awkwafina)\, neumoljivoj lokalnoj policajki (Regina Hall)\, svojoj polusestri (Mila Kunis) koja je ujedno i novinarka u očajničkoj potrazi za dobrom pričom i pretučenom bratu svog supruga (Jimmi Simpson)\, koji su svi krenuli otkrivati istinu o nestanku. \n
URL:http://www.kinopobjeda.hr/raspored/njezinih-pet-minuta/
CATEGORIES:15,komedija
END:VEVENT
END:VCALENDAR