BEGIN:VCALENDAR
VERSION:2.0
PRODID:-//Kino Pobjeda Metković - ECPv4.6.8//NONSGML v1.0//EN
CALSCALE:GREGORIAN
METHOD:PUBLISH
X-WR-CALNAME:Kino Pobjeda Metković
X-ORIGINAL-URL:http://www.kinopobjeda.hr
X-WR-CALDESC:Events for Kino Pobjeda Metković
BEGIN:VEVENT
DTSTART;TZID=UTC+1:20210409T200000
DTEND;TZID=UTC+1:20210409T213000
DTSTAMP:20260421T035137
CREATED:20210331T113654Z
LAST-MODIFIED:20210408T112153Z
UID:3753-1617998400-1618003800@www.kinopobjeda.hr
SUMMARY:Nobody
DESCRIPTION:\n  \nU Kinu Pobjeda Metković u petak\, 9. travnja u 20 sati na rasporedu je akcijski film „Nobody“.\nDobitnik nagrade Emmy\, Bob Odenkirk glumi Hutcha Mansella\, neuglednog oca i muža\, kojega život ne mazi\, a on je totalno pasivan i prima sve životne udarce bez želje i volje da se odupre. Apsolutni je nitko! \nZa vrijeme noćne provale\, Hutch odbija braniti sebe\, ali i svoju obitelj iako njegov sin napada provalnike\, sa željom da se izbjegne ozbiljno nasilje. Njegov sin Blake (Gage Munroe) je razočaran ocem\, a i njegova žena Becca (Connie Nielsen) sve se više udaljava od njega. \nProvala pokreće u Hutchu dugo potiskivani bijes te postaje okidač koji ga usmjerava na brutalan put osvete na kojem se otkriva njegova mračna strana\, ali i smrtonosne vještine koje posjeduje. Hutch mora obraniti obitelj od opasnog neprijatelja\, vođe ruske mafije. \n  \n  \n  \n
URL:http://www.kinopobjeda.hr/raspored/nobody/
CATEGORIES:15,akcija
END:VEVENT
END:VCALENDAR