BEGIN:VCALENDAR
VERSION:2.0
PRODID:-//Kino Pobjeda Metković - ECPv4.6.8//NONSGML v1.0//EN
CALSCALE:GREGORIAN
METHOD:PUBLISH
X-WR-CALNAME:Kino Pobjeda Metković
X-ORIGINAL-URL:http://www.kinopobjeda.hr
X-WR-CALDESC:Events for Kino Pobjeda Metković
BEGIN:VEVENT
DTSTART;TZID=UTC+1:20200925T200000
DTEND;TZID=UTC+1:20200925T213000
DTSTAMP:20260421T124400
CREATED:20200922T094917Z
LAST-MODIFIED:20200922T094917Z
UID:3353-1601064000-1601069400@www.kinopobjeda.hr
SUMMARY:Novi mutanti
DESCRIPTION:\n  \nU Kinu ‘Pobjeda’ Metković u petak\, 25. rujna u 20 sati održat će se projekcija filma ‘Novi mutanti’.\nSerija Marvelovih stripova ‘Novi mutanti’ ‘ prvi put se pojavila 1982. godine. Novi mutanti su bili mladi studenti škole za nadarene\, profesora Charlesa Xaviera\, jako slični originalnim X-men stripovima. Ovo je jedinstvena i originalna priča koja nas uvodi u potpuno novi svijet X-mena\, drugačija od bilo koje priče iz Marvelovog svijeta. Ton je iznenađujući\, žanr je neočekivan\, radnja je misteriozna i uznemirujuća. \nPriča je to o pet mladih ljudi s opasnim sposobnostima koji se drže pod zaštitom na tajnoj lokaciji protiv njihove volje. Svaki od njih nosi teret tajanstvene prošlosti i moći koju ne mogu kontrolirati. Kada shvate da su “pod zaštitom” u još većoj opasnosti\, i bivaju progonjeni od nadnaravnog zla\, njihovi najveći strahovi će se ostvariti. \n  \n
URL:http://www.kinopobjeda.hr/raspored/novi-mutanti/
CATEGORIES:12,akcija,horor,znanstveno-fantastični
END:VEVENT
END:VCALENDAR