BEGIN:VCALENDAR
VERSION:2.0
PRODID:-//Kino Pobjeda Metković - ECPv4.6.8//NONSGML v1.0//EN
CALSCALE:GREGORIAN
METHOD:PUBLISH
X-WR-CALNAME:Kino Pobjeda Metković
X-ORIGINAL-URL:http://www.kinopobjeda.hr
X-WR-CALDESC:Events for Kino Pobjeda Metković
BEGIN:VEVENT
DTSTART;TZID=UTC+1:20180128T193000
DTEND;TZID=UTC+1:20180128T213000
DTSTAMP:20260423T041334
CREATED:20180124T083553Z
LAST-MODIFIED:20180124T095146Z
UID:1951-1517167800-1517175000@www.kinopobjeda.hr
SUMMARY:Novine
DESCRIPTION:\nIZVORNO IME: The Post\nREDATELJ: Steven Spielberg | ŽANR: biografija\, povijesni\nULOGE: Meryl Streep\, Tom Hanks\, Alison Brie\, Sarah Paulson\nTRAJANJE FILMA: 115 minuta | GODINA: 2017 | DRŽAVA: SAD |\nPOČETAK PRIKAZIVANJA: 28.01.2018. U 19\,30\nHIGHLIGHTS: Nominiran za nagradu Oscar u kategoriji: \nNajbolji film\nNajbolja glavna glumica \nSADRŽAJ FILMA:\nRadi se o istinitom događaju i aferi “Pentagon Papers”\, odnosno ulozi koju su u njoj odigrale novine.\nRadnja je usredotočena na objavu pentagonskih dokumenata u Washington Postu\, kojima su 1971. njegovi novinari otkrili istinu o Vijetnamskom ratu. Pentagonski dokumenti predstavljaju niz službenih dokumenata američkog ministarstva obrane koji su procurili tako što ih je vojni analitičar Daniel Ellsberg dostavio novinarima. Dvostruki Oscarovac Tom Hanks igrat će ulogu urednika Washington Posta Bena Bradleeja\, a trostruka Oscarovka Meryl Streep ulogu glavne izdavačice novina Kay Graham\, koja je vodila sudski spor s vladom u trenutku kada je predsjednik SAD-a bio Richard Nixon. \n \n  \n
URL:http://www.kinopobjeda.hr/raspored/novine/
CATEGORIES:biografija,povijesni
END:VEVENT
END:VCALENDAR