BEGIN:VCALENDAR
VERSION:2.0
PRODID:-//Kino Pobjeda Metković - ECPv4.6.8//NONSGML v1.0//EN
CALSCALE:GREGORIAN
METHOD:PUBLISH
X-WR-CALNAME:Kino Pobjeda Metković
X-ORIGINAL-URL:http://www.kinopobjeda.hr
X-WR-CALDESC:Events for Kino Pobjeda Metković
BEGIN:VEVENT
DTSTART;TZID=UTC+1:20211017T173000
DTEND;TZID=UTC+1:20211017T190300
DTSTAMP:20260419T184050
CREATED:20211012T082910Z
LAST-MODIFIED:20211012T082910Z
UID:4062-1634491800-1634497380@www.kinopobjeda.hr
SUMMARY:Obitelj Addams 2 - Izlet
DESCRIPTION:\n  \nU Kinu ‘Pobjeda’ Metković u nedjelju\, 17. listopada u 17:30 na rasporedu je animirani film ‘Obitelj Addams 2 – Izlet‘\, sinkroniziran na hrvatski jezik.\nU novom nastavku priče obitelj Addams je prihvaćena od strane svojih sugrađana i žive sretno iznad močvare. Pugsley i Wednesday su u godinama kada je djeci zadnja stvar na pameti družiti se s svojom roditeljima\, no Gomez ima rješenje – obitelj Addams odlazi na obiteljski odmor! \n  \n
URL:http://www.kinopobjeda.hr/raspored/obitelj-addams-2-izlet/
CATEGORIES:animirani,sinkronizirano
END:VEVENT
END:VCALENDAR