BEGIN:VCALENDAR
VERSION:2.0
PRODID:-//Kino Pobjeda Metković - ECPv4.6.8//NONSGML v1.0//EN
CALSCALE:GREGORIAN
METHOD:PUBLISH
X-WR-CALNAME:Kino Pobjeda Metković
X-ORIGINAL-URL:http://www.kinopobjeda.hr
X-WR-CALDESC:Events for Kino Pobjeda Metković
BEGIN:VEVENT
DTSTART;TZID=UTC+1:20191110T170000
DTEND;TZID=UTC+1:20191110T183000
DTSTAMP:20260422T005003
CREATED:20191107T110305Z
LAST-MODIFIED:20191107T110305Z
UID:2962-1573405200-1573410600@www.kinopobjeda.hr
SUMMARY:OBITELJ ADDAMS - SINK
DESCRIPTION:\nIZVORNO IME: The Addams Family\nREDATELJ: Greg Tiernan\, Conrad Vernon | ŽANR: animirani\nULOGE: Ozren Grabarić\, Jasna Bilušić\, Mila Elegović\, Klara Uglešić\, Eva Biljan\, Nikola Čiča\, Dražen Bratulić\, Dora Jakobović\, Dragan Peka\, Mima Karaula\nTRAJANJE FILMA: 87 minuta | GODINA: 2019 | DRŽAVA: SAD | PLAKAT FILMA\nPOČETAK PRIKAZIVANJA: 31.10.2019 \nSADRŽAJ FILMA:\nAko ste mislili da je vaša obitelj čudna\, razmislite još jednom. Pred vratima je jedna od najčudnijih\, najneobičnijih i najstrašnijih obitelji svih vremena – obitelj Addams. Ovog listopada u kina dolazi animirana obiteljska komedija koja prikazuje zgode i nezgode slavne obitelji. \nAnimiranu komediju su režirali Conrad Vernon i Greg Tiernan a temelji se na likovima koje je stvorio američki karikaturist Charles Addams\, poznat po svojim izuzetno mračnim i jezovitim likovima. \nMorticia Addams je vrlo odana mužu i djeci\, te je svojevrsno blijedo ljepilo koje drži obitelj na okupu. Zlobni ali dobar Gomez Addams je strastveno zaljubljen u svoju suprugu te se jako uzrujava oko problema koje najčešće sam zakuha. Njihova kći Wednesday Addams je sjajna ali uvijek loše raspoložena teenegerka koja ima dugu pletenu kosu i specifičan smisao za humor. Desetogodišnjak Pugsley Addams obožava upadati u probleme. Ujak Fester odnosno Fester Addams je veseljak dobre naravi koji je neprekidno u sukobu s zakonom. \nObitelj Addams ulazi u sukob se Margaux Needler\, lokalnom TV zvijezdom koja se bavi uređivanjem domova\, te se pod svaku cijenu želi riješiti Addamsovih iz svojeg susjedstva. Nevolja nikada ne dolazi sama pa Addamsovima u goste dolazi bliža i šira obitelj što dodatno šokira Margaux i lokalno stanovništvo. \nZANIMLJIVOST: Obitelj Addams se prvi puta pojavljuje u obliku stripa 1938. godine. O obitelji Addams snimljeno je nekoliko filmova i serija\, a možda je nepoznatiji istoimeni igrani film iz 1991. godine u kojem glavne uloge tumače Angelica Huston\, Raul Julia\, Christina Ricchi\, Christopher Lloyd te Jimmy Workman. \n \n
URL:http://www.kinopobjeda.hr/raspored/obitelj-addams-sink/
CATEGORIES:animirani
END:VEVENT
END:VCALENDAR