BEGIN:VCALENDAR
VERSION:2.0
PRODID:-//Kino Pobjeda Metković - ECPv4.6.8//NONSGML v1.0//EN
CALSCALE:GREGORIAN
METHOD:PUBLISH
X-WR-CALNAME:Kino Pobjeda Metković
X-ORIGINAL-URL:http://www.kinopobjeda.hr
X-WR-CALDESC:Events for Kino Pobjeda Metković
BEGIN:VEVENT
DTSTART;TZID=UTC+1:20210508T200000
DTEND;TZID=UTC+1:20210508T213000
DTSTAMP:20260421T012326
CREATED:20210503T161611Z
LAST-MODIFIED:20210503T161611Z
UID:3833-1620504000-1620509400@www.kinopobjeda.hr
SUMMARY:Oni koji mi žele smrt
DESCRIPTION:\n  \nU Kinu ‘Pobjeda’ Metković u subotu\, 8. svibnja u 20 sati na rasporedu je film ‘Oni koji mi žele smrt’ – triler s Angelinom Jolie u glavnoj ulozi.\nFilm govori o maloljetnom dječaku koji nakon što postane svjedokom brutalnog ubojstva\, ulazi u sustav zaštite svjedoka i izdan mu je novi\, lažan identitet. Skriven je u kampu za problematične tinejdžere u prirodi. Ubojice koji su odgovorni za ubojstvo kojem je bio svjedok\, u lovu su na njega i ubijaju svakoga tko im se nađe na putu. \n  \n
URL:http://www.kinopobjeda.hr/raspored/oni-koji-mi-zele-smrt/
CATEGORIES:12,triler
END:VEVENT
END:VCALENDAR