BEGIN:VCALENDAR
VERSION:2.0
PRODID:-//Kino Pobjeda Metković - ECPv4.6.8//NONSGML v1.0//EN
CALSCALE:GREGORIAN
METHOD:PUBLISH
X-WR-CALNAME:Kino Pobjeda Metković
X-ORIGINAL-URL:http://www.kinopobjeda.hr
X-WR-CALDESC:Events for Kino Pobjeda Metković
BEGIN:VEVENT
DTSTART;TZID=UTC+1:20170922T203000
DTEND;TZID=UTC+1:20170922T223000
DTSTAMP:20260423T144218
CREATED:20170919T105702Z
LAST-MODIFIED:20170920T130618Z
UID:1683-1506112200-1506119400@www.kinopobjeda.hr
SUMMARY:ONO
DESCRIPTION:\nIZVORNO IME: It\nREDATELJ: Andrés Muschietti | ŽANR: horor\nULOGE: Bill Skarsgard\, Jaeden Lieberher\, Finn Wolfhard\nTRAJANJE FILMA: 135 minuta | GODINA: 2017 | DRŽAVA: SAD |\nPOČETAK PRIKAZIVANJA:petak\, 22. i subota\, 23.9. u 20\,30 \nKada počnu nestajati djeca iz gradića Derry\, Maine\, grupa djece će se suočiti sa svojim najvećim strahovima kada će se morati suočiti sa zločestim klaunom Pennywiseom\, čija povijest nasilja i ubojstava datira daleko u prošlost.\n*Genijalni Stephen King i njegova knjiga Ono postali su svjetski fenomen nakon ekranizacije davne 1990. godine. \n \n
URL:http://www.kinopobjeda.hr/raspored/ono/
CATEGORIES:horor
END:VEVENT
END:VCALENDAR