BEGIN:VCALENDAR
VERSION:2.0
PRODID:-//Kino Pobjeda Metković - ECPv4.6.8//NONSGML v1.0//EN
CALSCALE:GREGORIAN
METHOD:PUBLISH
X-WR-CALNAME:Kino Pobjeda Metković
X-ORIGINAL-URL:http://www.kinopobjeda.hr
X-WR-CALDESC:Events for Kino Pobjeda Metković
BEGIN:VEVENT
DTSTART;TZID=UTC+1:20200131T193000
DTEND;TZID=UTC+1:20200131T213000
DTSTAMP:20260422T090402
CREATED:20200129T143637Z
LAST-MODIFIED:20200129T143637Z
UID:3029-1580499000-1580506200@www.kinopobjeda.hr
SUMMARY:OPSJEDNUTOST
DESCRIPTION: \n
URL:http://www.kinopobjeda.hr/raspored/opsjednutost/
END:VEVENT
END:VCALENDAR