BEGIN:VCALENDAR
VERSION:2.0
PRODID:-//Kino Pobjeda Metković - ECPv4.6.8//NONSGML v1.0//EN
CALSCALE:GREGORIAN
METHOD:PUBLISH
X-WR-CALNAME:Kino Pobjeda Metković
X-ORIGINAL-URL:http://www.kinopobjeda.hr
X-WR-CALDESC:Events for Kino Pobjeda Metković
BEGIN:VEVENT
DTSTART;TZID=UTC+1:20180127T193000
DTEND;TZID=UTC+1:20180127T220000
DTSTAMP:20260423T030948
CREATED:20180124T082119Z
LAST-MODIFIED:20180124T082119Z
UID:1945-1517081400-1517090400@www.kinopobjeda.hr
SUMMARY:Osmi povjerenik
DESCRIPTION:\nIZVORNO IME: Osmi povjerenik\nREDATELJ: Ivan Salaj | ŽANR: drama\, komedija\nULOGE: Frano Mašković\, Borko Perić\, Nadia Cvitanović\, Ivo Gregurević\, Goran Navojec\nTRAJANJE FILMA: 139 minuta | GODINA: 2018 | DRŽAVA: Hrvatska |\nPOČETAK PRIKAZIVANJA: 27.01.2018. U 19\,30\nSADRŽAJ FILMA:\nSiniša Mesjak\, arogantan i ambiciozan političar u usponu\, nađe se u središtu skandala. Kako bi ga sklonio od javnosti\, premijer ga imenuje povjerenikom vlade RH na najudaljenijem naseljenom otoku Trećiću\, sa zadatkom organiziranja lokalnih izbora. Predhodnih sedam povjerenika u tome nije uspjelo.\nNa Trećiću nema telefona\, interneta ni signala za mobitel\, a veza sa kopnom ovisi o nafti koju dostavljaju talijanski šverceri. Otočani govore nerazumljivim dijalektom i bez prevoditelja Tonina\, infatilnog mladića koji boluje od čudne padavice\, Mesjak ne bi razumio ni riječi. Nastojeći pronaći način da ostvari svoju misiju\, Mesjak otkriva nestvaran svijet Trećića\, pronalazi nevjerovatne likove\, najboljeg prijatelja u životu i… samoga sebe. \n \n
URL:http://www.kinopobjeda.hr/raspored/osmi-povjerenik/
CATEGORIES:drama,komedija
END:VEVENT
END:VCALENDAR