BEGIN:VCALENDAR
VERSION:2.0
PRODID:-//Kino Pobjeda Metković - ECPv4.6.8//NONSGML v1.0//EN
CALSCALE:GREGORIAN
METHOD:PUBLISH
X-WR-CALNAME:Kino Pobjeda Metković
X-ORIGINAL-URL:http://www.kinopobjeda.hr
X-WR-CALDESC:Events for Kino Pobjeda Metković
BEGIN:VEVENT
DTSTART;TZID=UTC+1:20190503T200000
DTEND;TZID=UTC+1:20190503T223000
DTSTAMP:20260422T093741
CREATED:20190502T210155Z
LAST-MODIFIED:20190502T210155Z
UID:2859-1556913600-1556922600@www.kinopobjeda.hr
SUMMARY:Osvetnici: Završnica (3D)
DESCRIPTION:\nOsvetnici: Završnica \n182 min \navanturistički\, akcija\, znanstveno-fantastični \nRedatelj: Anthony Russo\, Joe Russo \nUloge: Brie Larson\, Bradley Cooper\, Evangeline Lilly\, Josh Brolin\, Scarlett Johansson\, Chris Hemsworth\, Karen Gillan\, Chris Evans\, Elizabeth Olsen\, Robert Downey Jr.\, Michelle Pfeiffer\, Tom Holland\, Paul Rudd \n  \nRedatelji Anthony i Joe Russo\, Marvel studio i Disney donose nam najiščekivaniji i najuzbudljiviji film godine i cijelog Marvelovog filmskog svijeta do sada – „Osvetnici: Završnica“. Nakon razornih događaja u filmu Osvetnici: Rat beskonačnosti (2018.)\, svemir je u ruševinama. Uz pomoć preostalih saveznika Osvetnici se ponovno okupljaju kako bi poništili Thanosove postupke i vratili red u svemir. \n  \nhttps://www.youtube.com/watch?v=xIHW3uU7Pjw \n  \n  \n
URL:http://www.kinopobjeda.hr/raspored/osvetnici-zavrsnica-3d/
END:VEVENT
END:VCALENDAR