BEGIN:VCALENDAR
VERSION:2.0
PRODID:-//Kino Pobjeda Metković - ECPv4.6.8//NONSGML v1.0//EN
CALSCALE:GREGORIAN
METHOD:PUBLISH
X-WR-CALNAME:Kino Pobjeda Metković
X-ORIGINAL-URL:http://www.kinopobjeda.hr
X-WR-CALDESC:Events for Kino Pobjeda Metković
BEGIN:VEVENT
DTSTART;TZID=UTC+1:20200227T193000
DTEND;TZID=UTC+1:20200227T213000
DTSTAMP:20260422T025744
CREATED:20200226T114203Z
LAST-MODIFIED:20200226T114328Z
UID:3099-1582831800-1582839000@www.kinopobjeda.hr
SUMMARY:PARAZIT
DESCRIPTION:\nPARAZIT \nULOGE: Song Kang Ho\, Lee Sun Kyun\, Cho Yeo Jeong/ ŽANR: drama \nČetveročlana obitelj Ki-taeka je bliska\, ali potpuno nezaposlena\, pred njom je mračna budućnost. Sinaa Ki-wooa preporučuje njegov prijatelj\, student na prestižnom sveučilištu\, za dobro plaćeni posao podučavanja te se nada da će tako imati redovite prihode. Sa svim očekivanjima svoje obitelji\, Ki-woo odlazi u obiteljski dom na intervju. Stigavši u kuću gospodina Parka\, vlasnika globalne IT tvrtke\, Ki-woo susreće njegovu suprugu Yeon-kia\, lijepu mladu damu. Nakon ovog prvog susreta između dviju obitelji\, uslijediti će nezaustavljivi niz nezgoda. \n \n
URL:http://www.kinopobjeda.hr/raspored/parazit/
END:VEVENT
END:VCALENDAR