BEGIN:VCALENDAR
VERSION:2.0
PRODID:-//Kino Pobjeda Metković - ECPv4.6.8//NONSGML v1.0//EN
CALSCALE:GREGORIAN
METHOD:PUBLISH
X-WR-CALNAME:Kino Pobjeda Metković
X-ORIGINAL-URL:http://www.kinopobjeda.hr
X-WR-CALDESC:Events for Kino Pobjeda Metković
BEGIN:VEVENT
DTSTART;TZID=UTC+1:20220318T193000
DTEND;TZID=UTC+1:20220318T211100
DTSTAMP:20260420T134027
CREATED:20220315T112308Z
LAST-MODIFIED:20220315T112308Z
UID:4324-1647631800-1647637860@www.kinopobjeda.hr
SUMMARY:Pas
DESCRIPTION:\nU Kinu ‘Pobjeda’ Metković u petak\, 18. ožujka u 19:30 na rasporedu je komedija ‘Pas’.\nOsim što tumači glavnu ulogu\, Channing Tatum je ujedno i koredatelj filma u kojem mu se u glavnoj ulozi pridružuje simpatični belgijski ovčar. \nBivšem vojnom rendžeru Briggsu je dodijeljeno da se brine o vojno obučenom psu palog vojnika. Njegova je misija prevesti psa na drugi kraj zemlje kako bi prisustvovali vojničkom sprovodu. Njihovo putovanje natjeralo ih je na poseban suživot kojem definitivno ne ide u prilog izvanredno ponašanje „dlakavog demona” koji je u tom periodu izazvao nekoliko nevjerojatnih situacija. Upravo je to Briggsa gurnulo do njegovih krajnjih granica\, ali i natjeralo da malo preispita sebe i svoj odnos sa psećim suputnikom. \n\n
URL:http://www.kinopobjeda.hr/raspored/pas/
CATEGORIES:12,komedija
END:VEVENT
END:VCALENDAR