BEGIN:VCALENDAR
VERSION:2.0
PRODID:-//Kino Pobjeda Metković - ECPv4.6.8//NONSGML v1.0//EN
CALSCALE:GREGORIAN
METHOD:PUBLISH
X-WR-CALNAME:Kino Pobjeda Metković
X-ORIGINAL-URL:http://www.kinopobjeda.hr
X-WR-CALDESC:Events for Kino Pobjeda Metković
BEGIN:VEVENT
DTSTART;TZID=UTC+1:20230225T170000
DTEND;TZID=UTC+1:20230225T182400
DTSTAMP:20260420T000818
CREATED:20230221T084805Z
LAST-MODIFIED:20230221T084805Z
UID:4724-1677344400-1677349440@www.kinopobjeda.hr
SUMMARY:P'Astanian i tri njušketira
DESCRIPTION:\nU Kinu ‘Pobjeda’ Metković u subotu\, 25. veljače s početkom u 17 sati na rasporedu je animirani film ‘P’Astanian i tri njušketira’\, sinkroniziran na hrvatski jezik.\nTemeljena na slavnom romanu ‘Tri mušketira’ i smještena u 17. stoljeće\, ova nevjerojatna animirana avantura prati mladog štenca P’Astaniana koji putuje u velebni Pariz i nada se da će ispuniti svoj san da postane jedan od slavnih zaštitnika kralja. \nP’Astanian je mladi mačevalac koji sanja pridružiti se legendarnim Njušketirima. Nakon što je dokazao svoje vještine i stekao njihovo povjerenje\, on i Njušketiri moraju obraniti kralja od tajne zavjere zlog kardinala koji želi preuzeti vlast. Budući da nitko drugi ne može spasiti situaciju\, P’Astanian i njegovi novostečeni prijatelji\, talentirani mačevaoci\, kreću u avanturu kako bi bili spasili kralja i oslobodili regiju. \n  \n
URL:http://www.kinopobjeda.hr/raspored/pastanian-i-tri-njusketira/
CATEGORIES:animirani,sinkronizirano
END:VEVENT
END:VCALENDAR