BEGIN:VCALENDAR
VERSION:2.0
PRODID:-//Kino Pobjeda Metković - ECPv4.6.8//NONSGML v1.0//EN
CALSCALE:GREGORIAN
METHOD:PUBLISH
X-WR-CALNAME:Kino Pobjeda Metković
X-ORIGINAL-URL:http://www.kinopobjeda.hr
X-WR-CALDESC:Events for Kino Pobjeda Metković
BEGIN:VEVENT
DTSTART;TZID=UTC+1:20180210T163000
DTEND;TZID=UTC+1:20180210T180000
DTSTAMP:20260423T031215
CREATED:20180205T081508Z
LAST-MODIFIED:20180205T081709Z
UID:2023-1518280200-1518285600@www.kinopobjeda.hr
SUMMARY:Patuljci uzvraćaju udarac (SINK.)
DESCRIPTION:\nIZVORNO IME: Gnome Alone\nREDATELJ: Peter Lepeniotis\, Shelly Shenoy | ŽANR: Animacija\, obiteljski\nULOGE: Olga Pakalović\, Filip Križan\, Ivica Zadro\, Daria Knez Rukavina\nTRAJANJE FILMA: 85 minuta | GODINA: 2018 | DRŽAVA: Kanada |\nPOČETAK PRIKAZIVANJA: 10.02.2018. U 16\,30 \nSADRŽAJ FILMA: \nNi vrtni patuljci više nisu ono što su nekad bili. Kada djevojčica Chloe otkrije da u njezinoj novoj kući vrtni patuljci nisu ono što se činilo da jesu\, mora odlučiti kako postupiti.\nPatuljci se naime bore protiv zločestih Troggsa koji stižu iz druge dimenzije. \n \n
URL:http://www.kinopobjeda.hr/raspored/patuljci-uzvracaju-udarac/
CATEGORIES:animirani,obiteljski zabavni
END:VEVENT
END:VCALENDAR