BEGIN:VCALENDAR
VERSION:2.0
PRODID:-//Kino Pobjeda Metković - ECPv4.6.8//NONSGML v1.0//EN
CALSCALE:GREGORIAN
METHOD:PUBLISH
X-WR-CALNAME:Kino Pobjeda Metković
X-ORIGINAL-URL:http://www.kinopobjeda.hr
X-WR-CALDESC:Events for Kino Pobjeda Metković
BEGIN:VEVENT
DTSTART;TZID=UTC+1:20220122T170000
DTEND;TZID=UTC+1:20220122T182800
DTSTAMP:20260420T161438
CREATED:20220118T131852Z
LAST-MODIFIED:20220118T131852Z
UID:4232-1642870800-1642876080@www.kinopobjeda.hr
SUMMARY:Pčelica Maja 3: Zlatno jaje
DESCRIPTION:\nU Kinu ‘Pobjeda’ Metković u subotu\, 22. siječnja u 17 sati gledamo animirani film ‘Pčelica Maja 3: Zlatno jaje’\, sinkroniziran na hrvatski jezik. \nMala Maja živahna je i znatiželjna pčelica\, koja baš i ne voli pravila\, a u novoj avanturi sa njezinim najboljim prijateljem Pavom napušta Livadu makova. Kraljica je naime strogo zabranila odlazak u još jednu avanturu\, ali ne poslušavši je\, Maja kreće na važan zadatak: isporuku zlatnog jajeta\, budući da ona naravno ne može odoljeti pomoći još jednoj bubi u nevolji! Ali kad se “jaje” izlegne\, Maja i Pavo se suoče licem u lice sa dosad najvećom odgovornošću – prekrasnom\, ljupkom malom princezom. \n\n
URL:http://www.kinopobjeda.hr/raspored/pcelica-maja-3-zlatno-jaje/
CATEGORIES:animirani,sinkronizirano
END:VEVENT
END:VCALENDAR