BEGIN:VCALENDAR
VERSION:2.0
PRODID:-//Kino Pobjeda Metković - ECPv4.6.8//NONSGML v1.0//EN
CALSCALE:GREGORIAN
METHOD:PUBLISH
X-WR-CALNAME:Kino Pobjeda Metković
X-ORIGINAL-URL:http://www.kinopobjeda.hr
X-WR-CALDESC:Events for Kino Pobjeda Metković
BEGIN:VEVENT
DTSTART;TZID=UTC+1:20180209T193000
DTEND;TZID=UTC+1:20180209T213000
DTSTAMP:20260423T015913
CREATED:20180205T075441Z
LAST-MODIFIED:20180205T075441Z
UID:2013-1518204600-1518211800@www.kinopobjeda.hr
SUMMARY:Pedeset nijansi slobodniji (petak)
DESCRIPTION:\nIZVORNO IME: Fifty Shades Freed\nREDATELJ: James Foley | ŽANR: romantična drama\, triler\nULOGE: Dakota Johnson\, Jamie Dornan\, Eric Johnson\, Eloise Mumford\nTRAJANJE FILMA: 105 minuta | GODINA: 2018 | DRŽAVA: SAD | \nSADRŽAJ FILMA: \nJamie Dornan i Dakota Johnson se vraćaju kao Christian Grey i Anastasia Steele u „Pedeset nijansi – Oslobođeni“\, trećem nastavku svjetskog bestselera i fenomena „Pedeset nijansi“.\n“Pedeset nijansi – Oslobođeni” režira James Foley\, redatelj drugog nastavka. Scenarij i ovoga puta ponovo potpisuje Niall Leonard\, a zasnovan je na svjetskom bestseleru spisateljice E.L. James. \n \n
URL:http://www.kinopobjeda.hr/raspored/pedeset-nijansi-slobodniji-petak/
CATEGORIES:drama,romansa,triler
END:VEVENT
END:VCALENDAR