BEGIN:VCALENDAR
VERSION:2.0
PRODID:-//Kino Pobjeda Metković - ECPv4.6.8//NONSGML v1.0//EN
CALSCALE:GREGORIAN
METHOD:PUBLISH
X-WR-CALNAME:Kino Pobjeda Metković
X-ORIGINAL-URL:http://www.kinopobjeda.hr
X-WR-CALDESC:Events for Kino Pobjeda Metković
BEGIN:VEVENT
DTSTART;TZID=UTC+1:20180929T200000
DTEND;TZID=UTC+1:20180929T220000
DTSTAMP:20260422T201519
CREATED:20180927T125528Z
LAST-MODIFIED:20180928T080849Z
UID:2481-1538251200-1538258400@www.kinopobjeda.hr
SUMMARY:PEPPERMINT
DESCRIPTION:\nIZVORNO IME: Peppermint\nREDATELJ: Pierre Morel | ŽANR: akcija\nULOGE: Jennifer Garner\, Richard Cabral\, John Gallagher Jr.\nTRAJANJE FILMA: 102 minuta | GODINA: 2018 | DRŽAVA: SAD | PLAKAT FILMA\nPOČETAK PRIKAZIVANJA: 27.09.2018 \nSADRŽAJ FILMA:\nJennifer Garner u ulozi majke koja se budi iz kome nakon što su joj muž i kćer ubijeni u brutalnom napadu. Kad shvati da sustav štiti ubojice od pravde\, njezina životna misija postaje osveta suprugove i djetetove smrti. \nProvodi godine trenirajući kako bi pravdu uzela u svoje ruke. \n
URL:http://www.kinopobjeda.hr/raspored/peppermint/
END:VEVENT
END:VCALENDAR