BEGIN:VCALENDAR
VERSION:2.0
PRODID:-//Kino Pobjeda Metković - ECPv4.6.8//NONSGML v1.0//EN
CALSCALE:GREGORIAN
METHOD:PUBLISH
X-WR-CALNAME:Kino Pobjeda Metković
X-ORIGINAL-URL:http://www.kinopobjeda.hr
X-WR-CALDESC:Events for Kino Pobjeda Metković
BEGIN:VEVENT
DTSTART;TZID=UTC+1:20211211T170000
DTEND;TZID=UTC+1:20211211T185000
DTSTAMP:20260420T174108
CREATED:20211206T113158Z
LAST-MODIFIED:20211206T113158Z
UID:4163-1639242000-1639248600@www.kinopobjeda.hr
SUMMARY:'Pjevajte s nama 2'
DESCRIPTION:\nU Kinu ‘Pobjeda’ Metković u subotu\, 11. prosinca u 17:30 gledamo animirani film ‘Pjevajte s nama 2’\, sinkroniziran na hrvatski jezik.\nOve blagdanske sezone novo poglavlje u sjajnoj animiranoj franšizi Illumination-a stiže s velikim snovima i spektakularnim hitovima dok se uvijek optimistična koala\, Buster Moon i njegova zvjezdana ekipa izvođača pripremaju za lansiranje svoje najljepše scenske ekstravagancije do sada … sve u blistavoj svjetskoj prijestolnici zabave! Postoji samo jedna poteškoća – prvo moraju uvjeriti najzapušteniju rock zvijezdu na svijetu\, koju glumi globalna glazbena ikona Bono\, da im se pridruži. \n\n
URL:http://www.kinopobjeda.hr/raspored/pjevajte-s-nama-2/
CATEGORIES:animirani,sinkronizirano
END:VEVENT
END:VCALENDAR