BEGIN:VCALENDAR
VERSION:2.0
PRODID:-//Kino Pobjeda Metković - ECPv4.6.8//NONSGML v1.0//EN
CALSCALE:GREGORIAN
METHOD:PUBLISH
X-WR-CALNAME:Kino Pobjeda Metković
X-ORIGINAL-URL:http://www.kinopobjeda.hr
X-WR-CALDESC:Events for Kino Pobjeda Metković
BEGIN:VEVENT
DTSTART;TZID=UTC+1:20171001T203000
DTEND;TZID=UTC+1:20171001T223000
DTSTAMP:20260423T072708
CREATED:20170925T123832Z
LAST-MODIFIED:20170925T123832Z
UID:1719-1506889800-1506897000@www.kinopobjeda.hr
SUMMARY:POČINJEM PONOVNO
DESCRIPTION:\n\n\n\n\nPOČINJEM PONOVNO\n\nIZVORNO IME: Home Again\n\nREDATELJ: Hallie Meyers-Shyer  |  ŽANR: romantična\nULOGE: Reese Witherspoon\, Michael Sheen\, Lake Bell\, Nat Wolf\, Candice Bergen TRAJANJE FILMA: 97 minuta  |  GODINA: 2017  |  DRŽAVA: SAD  |  \n\nDATUM PRIKAZIVANJA: 1.10.2017. U 20\,30\nDatum prikazivanja je informativnog karaktera i kao takav je podložan promjenama.\n \n\nSADRŽAJ FILMA: \n\nReese Witherspoon tumači ulogu razvedene četerdesetogodišnje Alice\, majke dvoje djece koje se nakon ljetnih praznika vraćaju u školske klupe. Kako bi svoj život vratila u normalu\, seli se u rodni Los Angeles te odluči burno proslaviti svoj rođendan. Tijekom proslave upoznaje tri mladića koji su doslovno švorc i bez krova nad glavom te im Alice ponudi da privremeno svi žive u njenoj kući. \nZaplet nastaje kada se Alice zaljubljuje u jednog od mladića dok se istovremeno njezin bivši muž (Michael Sheen) želi vratiti kući. \n\n\n \n\n\n\n\n
URL:http://www.kinopobjeda.hr/raspored/pocinjem-ponovno/
CATEGORIES:romansa
END:VEVENT
END:VCALENDAR