BEGIN:VCALENDAR
VERSION:2.0
PRODID:-//Kino Pobjeda Metković - ECPv4.6.8//NONSGML v1.0//EN
CALSCALE:GREGORIAN
METHOD:PUBLISH
X-WR-CALNAME:Kino Pobjeda Metković
X-ORIGINAL-URL:http://www.kinopobjeda.hr
X-WR-CALDESC:Events for Kino Pobjeda Metković
BEGIN:VEVENT
DTSTART;TZID=UTC+1:20210319T193000
DTEND;TZID=UTC+1:20210319T212000
DTSTAMP:20260421T034625
CREATED:20210313T170712Z
LAST-MODIFIED:20210313T170712Z
UID:3730-1616182200-1616188800@www.kinopobjeda.hr
SUMMARY:Pogrešno skretanje: Početak
DESCRIPTION:\n  \nU Kinu ‘Pobjeda’ Metković u petak\, 19. ožujka u 19:30 održat će se projekcija filma ‘Pogrešno skretanje: Početak’.\nOsamnaest godina nakon što je Alan B. McElroy obožavatelje horora upoznao s opakom vrstom kreativnih kanibala\, scenarist se vraća kultnoj ‘Wrong Turn’ franšizi koja ga je proslavila. \nRadnja ovog napetog horora prati dvadesetogodišnju Jen i pet njenih bliskih prijatelja koji planinare u Apalačko gorje u Zapadnoj Virginiji. Unatoč upozorenjima da se drže staze\, planinari skreću s puta i ulaze u dio u kojem živi neobična skrivena zajednica stanovnika koja u planini živi od sredine 1800-ih kada su se izolirali od ostatka Sjedinjenih Država. Pod vodstvom impozantnog Johna Venablea (Bill Sage)\, oni će učiniti sve kako bi se zaštitili od vanjskih utjecaja. Iznenada pod opsadom\, čini se da su Jen i njezini prijatelji krenuli do točke bez povratka – osim ako ih Jenin otac (Matthew Modine) ne stigne spasiti na vrijeme. \n  \n
URL:http://www.kinopobjeda.hr/raspored/pogresno-skretanje-pocetak/
CATEGORIES:15,horor,triler
END:VEVENT
END:VCALENDAR