BEGIN:VCALENDAR
VERSION:2.0
PRODID:-//Kino Pobjeda Metković - ECPv4.6.8//NONSGML v1.0//EN
CALSCALE:GREGORIAN
METHOD:PUBLISH
X-WR-CALNAME:Kino Pobjeda Metković
X-ORIGINAL-URL:http://www.kinopobjeda.hr
X-WR-CALDESC:Events for Kino Pobjeda Metković
BEGIN:VEVENT
DTSTART;TZID=UTC+1:20201113T193000
DTEND;TZID=UTC+1:20201113T211000
DTSTAMP:20260421T103321
CREATED:20201109T090712Z
LAST-MODIFIED:20201109T090712Z
UID:3484-1605295800-1605301800@www.kinopobjeda.hr
SUMMARY:Pokajnik
DESCRIPTION:\nU Kinu ‘Pobjeda’ Metković u petak\, 13. studenoga u 19:30 održat će se projekcija filma ‘Pokajnik’ – napeta akcijska priča s Liamom Neesonom u glavnoj ulozi.\nTom Carter je pljačkaš koji je tijekom karijere ukrao 9 milijuna dolara iz nekoliko manjih banaka diljem SAD-a. Bez uhićenja\, bez otkrivanja identiteta. Nakon što upozna Annie\, Tom želi napustiti posao i početi novi život s voljenom ženom. Naravno da stvari neće ići tako glatko. Dva mlada FBI agenta kojima je dodijeljen njegov slučaj odluče tih 9 milijuna zadržati za sebe\, a usput prišiti Tomu ubojstvo njihovog nadređenog. \n  \n
URL:http://www.kinopobjeda.hr/raspored/pokajnik/
CATEGORIES:15,akcija
END:VEVENT
END:VCALENDAR