BEGIN:VCALENDAR
VERSION:2.0
PRODID:-//Kino Pobjeda Metković - ECPv4.6.8//NONSGML v1.0//EN
CALSCALE:GREGORIAN
METHOD:PUBLISH
X-WR-CALNAME:Kino Pobjeda Metković
X-ORIGINAL-URL:http://www.kinopobjeda.hr
X-WR-CALDESC:Events for Kino Pobjeda Metković
BEGIN:VEVENT
DTSTART;TZID=UTC+1:20230527T200000
DTEND;TZID=UTC+1:20230527T214500
DTSTAMP:20260419T210652
CREATED:20230524T091620Z
LAST-MODIFIED:20230524T091620Z
UID:4884-1685217600-1685223900@www.kinopobjeda.hr
SUMMARY:Ponovno ljubav
DESCRIPTION:\nU subotu\, 27. svibnja s početkom u 20 sati na rasporedu je ljubavna komedija ‘Ponovno ljubav’.\nOd scenarista i redatelja Jima Strousea\, u glavnim ulogama su Priyanka Chopra Jonas\, Sam Heughan i Celine Dion. Što ako vas nasumična SMS poruka dovede do ljubavi vašeg života? U ovoj romantičnoj komediji\, suočavajući se s gubitkom zaručnika\, Mira Ray šalje niz romantičnih poruka na njegov stari broj mobitela… ne shvaćajući da je broj dodijeljen novom službenom telefonu Roba Burnsa. Novinar Rob osvaja iskrenošću u lijepo ispovjednim tekstovima. Kad mu je dodijeljeno da napiše profil megazvijezde Celine Dion (glumi samu sebe u svojoj prvoj filmskoj ulozi)\, traži njezinu pomoć da smisli kako osobno upoznati Miru… i osvojiti njezino srce. \n  \n
URL:http://www.kinopobjeda.hr/raspored/ponovno-ljubav-2/
CATEGORIES:12,drama,komedija,ljubavna drama,romantična komedija
END:VEVENT
END:VCALENDAR