BEGIN:VCALENDAR
VERSION:2.0
PRODID:-//Kino Pobjeda Metković - ECPv4.6.8//NONSGML v1.0//EN
CALSCALE:GREGORIAN
METHOD:PUBLISH
X-WR-CALNAME:Kino Pobjeda Metković
X-ORIGINAL-URL:http://www.kinopobjeda.hr
X-WR-CALDESC:Events for Kino Pobjeda Metković
BEGIN:VEVENT
DTSTART;TZID=UTC+1:20200305T193000
DTEND;TZID=UTC+1:20200305T213000
DTSTAMP:20260422T014824
CREATED:20200304T120804Z
LAST-MODIFIED:20200304T120804Z
UID:3110-1583436600-1583443800@www.kinopobjeda.hr
SUMMARY:PORTRET DJEVOJKE U PLAMENU
DESCRIPTION:\nIZVORNO IME: Portrait of a Lady on Fire\nREDATELJ: Céline Sciamma\nŽANR: drama\nULOGE: Noémie Merlant\, Adele Haenel\, Luana Bajrami\nTRAJANJE FILMA: 119 minuta\nGODINA: 2019\nDRŽAVA: Francuska \nBretanja\, Francuska\, 1760. godine. Slikarica Marianne dobiva zadatak napraviti vjenčani portret Héloise\, mlade djevojke koja je upravo napustila samostan. Héloise je predodređena da se protiv svoje volje uda\, a Marianne je mora naslikati bez njezinog znanja. Iz dana u dan ona ju promatra i potajno slika tijekom noći. Između dvije žene uskoro se rađa intimnost i privlačnost dok zajedno dijele Héloiseine prve i posljednje trenutke slobode\, a sve dok Marianne slika portret koji će označiti kraj njihovog odnosa. Film „Portret djevojke u plamenu“ na ovogodišnjem filmskom festivalu u Cannesu osvojio je nagradu za najbolji scenarij. Redateljica i scenaristica Céline Sciamma ponovno se ujedinjuje s nagrađivanom glumicom Adele Haenel u ovoj intimnoj i duboko dirljivoj povijesnoj drami. \n  \n  \n \n
URL:http://www.kinopobjeda.hr/raspored/portret-djevojke-plamenu/
END:VEVENT
END:VCALENDAR