BEGIN:VCALENDAR
VERSION:2.0
PRODID:-//Kino Pobjeda Metković - ECPv4.6.8//NONSGML v1.0//EN
CALSCALE:GREGORIAN
METHOD:PUBLISH
X-WR-CALNAME:Kino Pobjeda Metković
X-ORIGINAL-URL:http://www.kinopobjeda.hr
X-WR-CALDESC:Events for Kino Pobjeda Metković
BEGIN:VEVENT
DTSTART;TZID=UTC+1:20210925T200000
DTEND;TZID=UTC+1:20210925T213800
DTSTAMP:20260419T194721
CREATED:20210920T093603Z
LAST-MODIFIED:20210920T093603Z
UID:4000-1632600000-1632605880@www.kinopobjeda.hr
SUMMARY:Poslije svega: Pad
DESCRIPTION:\nU Kinu ‘Pobjeda’ Metković u subotu\, 25. rujna s početkom u 20 sati na rasporedu je ljubavna drama ‘Poslije svega: Pad’ – nastavak velike uspješnice serijala o ljubavi dvoje mladih koja ne priznaje granice\, a koji je snimljen prema bestseleru spisateljice Anne Todd.\nLjubav Tesse i Hardina oduvijek je bila komplicirana\, ali sad su dospjeli u fazu u kojoj se izlaz ne nazire. Upravo dok se Tessa sprema donijeti jednu od važnijih odluka u životu\, sve se promijeni. Hardin se još uvijek ne zna kontrolirati i sve oko nje počinje se raspadati. Nikome ne može vjerovati\, nitko nije onakav kakav se čini. Ni obitelj\, ni prijatelji. \n  \n
URL:http://www.kinopobjeda.hr/raspored/poslije-svega-pad/
CATEGORIES:12,ljubavna drama
END:VEVENT
END:VCALENDAR