BEGIN:VCALENDAR
VERSION:2.0
PRODID:-//Kino Pobjeda Metković - ECPv4.6.8//NONSGML v1.0//EN
CALSCALE:GREGORIAN
METHOD:PUBLISH
X-WR-CALNAME:Kino Pobjeda Metković
X-ORIGINAL-URL:http://www.kinopobjeda.hr
X-WR-CALDESC:Events for Kino Pobjeda Metković
BEGIN:VEVENT
DTSTART;TZID=UTC+1:20220513T200000
DTEND;TZID=UTC+1:20220513T213400
DTSTAMP:20260420T095455
CREATED:20220509T100745Z
LAST-MODIFIED:20220509T100745Z
UID:4392-1652472000-1652477640@www.kinopobjeda.hr
SUMMARY:Potpaljivačica
DESCRIPTION:\nU Kinu ‘Pobjeda’ Metković u petak\, 13. svibnja s početkom u 20 sati na rasporedu je film ‘Potpaljivačica’ – triler snimljen prema romanu Stephena Kinga.\nDjevojka s izvanrednim pirokinetičkim moćima pokušava zaštititi sebe i svoju obitelj od zlokobnih sila koje je žele zarobiti i kontrolirati. Više od desetljeća roditelji Andy i Vicky su u bijegu te očajnički skrivaju svoju kćer Charlie od korumpirane savezne agencije koja želi iskoristiti Charlijeve posebne moći za izradu moćnog oružja za masovno uništenje. \nCharlievu moć pokreću ljutnja i bol\, a njen otac Andy joj pomaže naučiti kontrolirati istu. Međutim\, po navršavanju 11 godina\, Charlie se sve teže nosi s kontroliranjem moći vatre. Nakon jednog incidenta\, obitelj i njihova tajna lokacija se razotkrivaju.  Tajanstveni operativac dobiva zadatak uloviti obitelj i Charlie. Charlie ima druge planove. \n  \n
URL:http://www.kinopobjeda.hr/raspored/potpaljivacica/
CATEGORIES:15,triler
END:VEVENT
END:VCALENDAR