BEGIN:VCALENDAR
VERSION:2.0
PRODID:-//Kino Pobjeda Metković - ECPv4.6.8//NONSGML v1.0//EN
CALSCALE:GREGORIAN
METHOD:PUBLISH
X-WR-CALNAME:Kino Pobjeda Metković
X-ORIGINAL-URL:http://www.kinopobjeda.hr
X-WR-CALDESC:Events for Kino Pobjeda Metković
BEGIN:VEVENT
DTSTART;TZID=UTC+1:20251107T193000
DTEND;TZID=UTC+1:20251107T211700
DTSTAMP:20260419T144937
CREATED:20251104T073734Z
LAST-MODIFIED:20251104T073734Z
UID:5947-1762543800-1762550220@www.kinopobjeda.hr
SUMMARY:Predator: Badlands
DESCRIPTION:  \nU petak\, 7. studenoga u 19:30 sati\, Kino ‘Pobjeda’ Metković donosi spektakularni znanstvenofantastični film „Predator: Badlands”\, novo poglavlje legendarne franšize koje stiže od vizionarskog redatelja Dana Trachtenberga (Prey).  \nRadnja nas vodi u daleku budućnost\, na nepristupačni planet na rubu poznatog svemira\, gdje izopćeni mladi Predator pokušava pronaći svoje mjesto u svemiru nasilja i preživljavanja. Neočekivani obrat događa se kada susreće hrabru Thii\, borbenu ženu koja se bori protiv vlastite sudbine. Zajedno kreću na opasno putovanje kroz pustoš Badlandsa\, gdje će se suočiti s neprijateljima\, unutarnjim demonima i konačnim protivnikom koji će zauvijek promijeniti njihove živote – i samu galaksiju. \n„Predator: Badlands” donosi svjež pristup kultnom serijalu\, spajajući napetu akciju\, epske vizualne prizore i neočekivanu emocionalnu dubinu. Ovo je film koji ne samo da širi mitologiju Predatora\, nego i istražuje teme časti\, preživljavanja i izbora u svijetu bez milosti. \nZa ljubitelje znanstvene fantastike i adrenalinske akcije – ovo je kino doživljaj koji se ne propušta! \n \n
URL:http://www.kinopobjeda.hr/raspored/predator-badlands/
CATEGORIES:15,znanstveno-fantastični
ATTACH;FMTTYPE=image/jpeg:http://www.kinopobjeda.hr/wp-content/uploads/2025/11/MV5BMDIwOTlmODAtNGIwYy00MTFlLThlNzMtNzkzMWEwMGFjMjExXkEyXkFqcGdeQWpnYW1i._V1_QL75_UX500_CR00500281_.jpg
END:VEVENT
END:VCALENDAR