BEGIN:VCALENDAR
VERSION:2.0
PRODID:-//Kino Pobjeda Metković - ECPv4.6.8//NONSGML v1.0//EN
CALSCALE:GREGORIAN
METHOD:PUBLISH
X-WR-CALNAME:Kino Pobjeda Metković
X-ORIGINAL-URL:http://www.kinopobjeda.hr
X-WR-CALDESC:Events for Kino Pobjeda Metković
BEGIN:VEVENT
DTSTART;TZID=UTC+1:20180927T200000
DTEND;TZID=UTC+1:20180927T220000
DTSTAMP:20260422T213002
CREATED:20180927T123654Z
LAST-MODIFIED:20180927T123654Z
UID:2472-1538078400-1538085600@www.kinopobjeda.hr
SUMMARY:Predator
DESCRIPTION:\nIZVORNO IME: The Predator\nREDATELJ: Shane Black | ŽANR: akcija\nULOGE: Boyd Holbrook\, Yvonne Strahovski\, Olivia Munn\, Sterling K. Brown\nTRAJANJE FILMA: 107 minuta | GODINA: 2018 | DRŽAVA: SAD | PLAKAT FILMA\nPOČETAK PRIKAZIVANJA: 13.09.2018 \nSADRŽAJ FILMA:\nDječak (Jacob Tremblay) donosi izvanzemaljska stvorenja na zemlju kada nađe daljinski upravljač svemirskog broda\, za koji misli da je igračka. Ubrzo nakon toga se pojavljuju najsmrtonosniji lovci u svemiru – Predatori – sad još snažniji\, inteligentniji i smrtonosniji nego ikada prije\, genetski unaprijeđeni DNK-om drugih vrsta te ponovno predstavljaju prijetnju čovječanstvu. \nSamo će tim bivših vojnika i kemičar moći zaustaviti brisanje ljudske vrste. \n
URL:http://www.kinopobjeda.hr/raspored/predator/
END:VEVENT
END:VCALENDAR